BEGIN:VCALENDAR
VERSION:2.0
PRODID:-//Excelsior College Swat - ECPv6.0.11//NONSGML v1.0//EN
CALSCALE:GREGORIAN
METHOD:PUBLISH
X-WR-CALNAME:Excelsior College Swat
X-ORIGINAL-URL:https://ecs.edu.pk
X-WR-CALDESC:Events for Excelsior College Swat
REFRESH-INTERVAL;VALUE=DURATION:PT1H
X-Robots-Tag:noindex
X-PUBLISHED-TTL:PT1H
BEGIN:VTIMEZONE
TZID:UTC
BEGIN:STANDARD
TZOFFSETFROM:+0000
TZOFFSETTO:+0000
TZNAME:UTC
DTSTART:20230101T000000
END:STANDARD
END:VTIMEZONE
BEGIN:VEVENT
DTSTART;VALUE=DATE:20230624
DTEND;VALUE=DATE:20230625
DTSTAMP:20260421T223837
CREATED:20200505T112325Z
LAST-MODIFIED:20230615T054022Z
UID:341-1687564800-1687651199@ecs.edu.pk
SUMMARY:Juniors Hiking
DESCRIPTION:We invite all our junior section students to embark on a memorable adventure with our upcoming Hiking Tour on the 24th of June. It’s time to lace up your hiking boots\, breathe in the fresh mountain air\, and explore the scenic trails surrounding our college. This excursion promises an exciting day filled with exploration\, teamwork\, and the thrill of conquering new heights. \nLed by experienced guides\, our hiking tour ensures the safety and enjoyment of every participant. As you hike through lush forests\, listen to the melody of chirping birds\, and witness breathtaking views\, you’ll not only foster a love for nature but also develop resilience and physical fitness. \nThis event provides an excellent opportunity for students to bond with their peers\, forge new friendships\, and enhance their appreciation for the environment. Our aim is to create lasting memories and inspire a sense of adventure that extends beyond the classroom. \nTo join this thrilling hiking tour\, simply register your interest at the college reception. Remember to come prepared with comfortable walking shoes\, a water bottle\, sunscreen\, and a sense of adventure. We look forward to seeing all our junior section students on this exciting expedition! \nDon’t miss out on this incredible opportunity to connect with nature\, challenge yourself\, and make unforgettable memories. Secure your spot now and get ready for an unforgettable hiking experience! \nCalling all students! Get ready to embark on a journey of opportunities and excellence at Excelsior College Swat. Engage\, explore\, and excel in every event of our annual schedule. Unleash your potential and make unforgettable memories. \nKhawaja Samiullah\nIncharge Activities \nTop rate school by 12\,000 parents and student\n5 Star Ratings Rated 5/5 by 12\,000 Students and parents
URL:https://ecs.edu.pk/event/junior-hiking/
LOCATION:Excelsior College Swat\, Bahrain Rd\, Sangota Swat\, Swat\, Khyber Pakhtunkhwa\, Pakistan
CATEGORIES:Art & Design,Events,Literature,Mathematics
ATTACH;FMTTYPE=image/jpeg:https://ecs.edu.pk/wp-content/uploads/2020/05/Design-for-page-event.jpg
ORGANIZER;CN="Khawaja%20Samiullah":MAILTO:sangota5@gmail.com
END:VEVENT
BEGIN:VEVENT
DTSTART;TZID=UTC:20230623T090000
DTEND;TZID=UTC:20230623T130000
DTSTAMP:20260421T223837
CREATED:20200505T094233Z
LAST-MODIFIED:20230615T034700Z
UID:318-1687510800-1687525200@ecs.edu.pk
SUMMARY:"Colors of Nature" Painting Competitions
DESCRIPTION:Join us for an exciting Painting/Drawing Competition at Excelsior College Swat! \nEvent: Painting/Drawing Competition Date: 23rd June Venue: Excelsior College Swat Theme: Colors of Nature Categories: Junior (Nursery to Class 5) and Senior (Class 6 to Class 10) \nCalling all young artists from Nursery to Class 10th! Unleash your creativity and showcase your artistic talent at our Painting/Drawing Competition. Let your imagination run wild as you bring the vibrant colors of nature to life on canvas. \nRegister now at our college office or visit our website for online registration. Don’t miss out on the chance to win fantastic prizes and be recognized for your artistic skills. \nMark your calendars and be part of this colorful event. It’s a wonderful opportunity to express your creativity and meet fellow young artists. \nFor more information\, visit our website or contact us at 0946 730112. Don’t forget to follow us on social media for updates and use the hashtag #ExcelsiorArtCompetition to share your journey! \nWe look forward to seeing your artistic masterpieces on 23rd June at Excelsior College Swat. Get ready to paint\, draw\, and let your imagination soar! \nCalling all students! Get ready to embark on a journey of opportunities and excellence at Excelsior College Swat. Engage\, explore\, and excel in every event of our annual schedule. Unleash your potential and make unforgettable memories. \nKhawaja Samiullah\nActivities Incharge \nTop Rated School by 12\,000 Parents and Students\n5 Star Ratings Rated 5/5 by 12\,000 Students
URL:https://ecs.edu.pk/event/art-design-for-beginners/
LOCATION:Excelsior College Swat\, Bahrain Rd\, Sangota Swat\, Swat\, Khyber Pakhtunkhwa\, Pakistan
CATEGORIES:Art & Design
ATTACH;FMTTYPE=image/jpeg:https://ecs.edu.pk/wp-content/uploads/2020/05/COLORS-OF-NATURE.jpg
ORGANIZER;CN="Khawaja%20Samiullah":MAILTO:sangota5@gmail.com
END:VEVENT
END:VCALENDAR